BEGIN:VCALENDAR
VERSION:2.0
PRODID:-//Sportschützen Atting e.V. - ECPv6.15.20//NONSGML v1.0//EN
CALSCALE:GREGORIAN
METHOD:PUBLISH
X-ORIGINAL-URL:https://www.sportschuetzen-atting.de
X-WR-CALDESC:Veranstaltungen für Sportschützen Atting e.V.
REFRESH-INTERVAL;VALUE=DURATION:PT1H
X-Robots-Tag:noindex
X-PUBLISHED-TTL:PT1H
BEGIN:VTIMEZONE
TZID:Europe/Berlin
BEGIN:DAYLIGHT
TZOFFSETFROM:+0100
TZOFFSETTO:+0200
TZNAME:CEST
DTSTART:20250330T010000
END:DAYLIGHT
BEGIN:STANDARD
TZOFFSETFROM:+0200
TZOFFSETTO:+0100
TZNAME:CET
DTSTART:20251026T010000
END:STANDARD
BEGIN:DAYLIGHT
TZOFFSETFROM:+0100
TZOFFSETTO:+0200
TZNAME:CEST
DTSTART:20260329T010000
END:DAYLIGHT
BEGIN:STANDARD
TZOFFSETFROM:+0200
TZOFFSETTO:+0100
TZNAME:CET
DTSTART:20261025T010000
END:STANDARD
BEGIN:DAYLIGHT
TZOFFSETFROM:+0100
TZOFFSETTO:+0200
TZNAME:CEST
DTSTART:20270328T010000
END:DAYLIGHT
BEGIN:STANDARD
TZOFFSETFROM:+0200
TZOFFSETTO:+0100
TZNAME:CET
DTSTART:20271031T010000
END:STANDARD
END:VTIMEZONE
BEGIN:VEVENT
DTSTART;VALUE=DATE:20260606
DTEND;VALUE=DATE:20260607
DTSTAMP:20260420T214452
CREATED:20251210T094723Z
LAST-MODIFIED:20251210T094723Z
UID:4678-1780704000-1780790399@www.sportschuetzen-atting.de
SUMMARY:90 er Feier RD u NG
DESCRIPTION:
URL:https://www.sportschuetzen-atting.de/sonstiges/90-er-feier-rd-u-ng/
END:VEVENT
BEGIN:VEVENT
DTSTART;VALUE=DATE:20260607
DTEND;VALUE=DATE:20260608
DTSTAMP:20260420T214452
CREATED:20251230T001521Z
LAST-MODIFIED:20251230T001521Z
UID:4753-1780790400-1780876799@www.sportschuetzen-atting.de
SUMMARY:Reinigung nach 90er Feier am Vortag.
DESCRIPTION:
URL:https://www.sportschuetzen-atting.de/sonstiges/reinigung-nach-90er-feier-am-vortag/
END:VEVENT
BEGIN:VEVENT
DTSTART;TZID=Europe/Berlin:20260627T163000
DTEND;TZID=Europe/Berlin:20260628T020000
DTSTAMP:20260420T214452
CREATED:20260418T071134Z
LAST-MODIFIED:20260418T071134Z
UID:4998-1782577800-1782612000@www.sportschuetzen-atting.de
SUMMARY:Schützenheim reserviert für HO
DESCRIPTION:
URL:https://www.sportschuetzen-atting.de/sonstiges/schuetzenheim-reserviert-fuer-ho/
CATEGORIES:Allgemein
END:VEVENT
BEGIN:VEVENT
DTSTART;VALUE=DATE:20260919
DTEND;VALUE=DATE:20260920
DTSTAMP:20260420T214452
CREATED:20251107T102540Z
LAST-MODIFIED:20251107T102540Z
UID:4577-1789776000-1789862399@www.sportschuetzen-atting.de
SUMMARY:Bierfest - vom Burschenverein
DESCRIPTION:
URL:https://www.sportschuetzen-atting.de/sonstiges/bierfest-vom-burschenverein/
END:VEVENT
BEGIN:VEVENT
DTSTART;VALUE=DATE:20260920
DTEND;VALUE=DATE:20260921
DTSTAMP:20260420T214452
CREATED:20251107T102339Z
LAST-MODIFIED:20251107T102339Z
UID:4575-1789862400-1789948799@www.sportschuetzen-atting.de
SUMMARY:Arco Cup Finale 2026
DESCRIPTION:
URL:https://www.sportschuetzen-atting.de/sonstiges/arco-cup-finale-2026/
END:VEVENT
BEGIN:VEVENT
DTSTART;VALUE=DATE:20261010
DTEND;VALUE=DATE:20261012
DTSTAMP:20260420T214452
CREATED:20251116T090800Z
LAST-MODIFIED:20251116T090800Z
UID:4631-1791590400-1791763199@www.sportschuetzen-atting.de
SUMMARY:Landkreismeisterschaft für Schüler- und Jugendschützen
DESCRIPTION:
URL:https://www.sportschuetzen-atting.de/sonstiges/landkreismeisterschaft-fuer-schueler-und-jugendschuetzen-3/
CATEGORIES:Allgemein
END:VEVENT
BEGIN:VEVENT
DTSTART;TZID=Europe/Berlin:20261014T190000
DTEND;TZID=Europe/Berlin:20261014T230000
DTSTAMP:20260420T214452
CREATED:20260201T114351Z
LAST-MODIFIED:20260201T114351Z
UID:4765-1792004400-1792018800@www.sportschuetzen-atting.de
SUMMARY:Gaudamen-Schießen
DESCRIPTION:
URL:https://www.sportschuetzen-atting.de/sonstiges/gaudamen-schiessen/
CATEGORIES:Allgemein
END:VEVENT
BEGIN:VEVENT
DTSTART;TZID=Europe/Berlin:20261127T190000
DTEND;TZID=Europe/Berlin:20261127T213000
DTSTAMP:20260420T214452
CREATED:20251116T090923Z
LAST-MODIFIED:20251116T090923Z
UID:4633-1795806000-1795815000@www.sportschuetzen-atting.de
SUMMARY:Packerlschießen
DESCRIPTION:
URL:https://www.sportschuetzen-atting.de/sonstiges/packerlschiessen-4/
CATEGORIES:Allgemein
END:VEVENT
BEGIN:VEVENT
DTSTART;TZID=Europe/Berlin:20261206T120000
DTEND;TZID=Europe/Berlin:20261206T190000
DTSTAMP:20260420T214452
CREATED:20251107T102154Z
LAST-MODIFIED:20251107T102154Z
UID:4573-1796558400-1796583600@www.sportschuetzen-atting.de
SUMMARY:VdK - Weihnachtsfeier
DESCRIPTION:
URL:https://www.sportschuetzen-atting.de/sonstiges/vdk-weihnachtsfeier-2/
END:VEVENT
BEGIN:VEVENT
DTSTART;TZID=Europe/Berlin:20261218T190000
DTEND;TZID=Europe/Berlin:20261218T230000
DTSTAMP:20260420T214452
CREATED:20251116T091052Z
LAST-MODIFIED:20251116T091052Z
UID:4635-1797620400-1797634800@www.sportschuetzen-atting.de
SUMMARY:Weihnachtsfeier
DESCRIPTION:
URL:https://www.sportschuetzen-atting.de/sonstiges/weihnachtsfeier-4/
CATEGORIES:Allgemein
END:VEVENT
END:VCALENDAR