BEGIN:VCALENDAR
VERSION:2.0
PRODID:-//Sportschützen Atting e.V. - ECPv6.15.20//NONSGML v1.0//EN
CALSCALE:GREGORIAN
METHOD:PUBLISH
X-ORIGINAL-URL:https://www.sportschuetzen-atting.de
X-WR-CALDESC:Veranstaltungen für Sportschützen Atting e.V.
REFRESH-INTERVAL;VALUE=DURATION:PT1H
X-Robots-Tag:noindex
X-PUBLISHED-TTL:PT1H
BEGIN:VTIMEZONE
TZID:Europe/Berlin
BEGIN:DAYLIGHT
TZOFFSETFROM:+0100
TZOFFSETTO:+0200
TZNAME:CEST
DTSTART:20230326T010000
END:DAYLIGHT
BEGIN:STANDARD
TZOFFSETFROM:+0200
TZOFFSETTO:+0100
TZNAME:CET
DTSTART:20231029T010000
END:STANDARD
BEGIN:DAYLIGHT
TZOFFSETFROM:+0100
TZOFFSETTO:+0200
TZNAME:CEST
DTSTART:20240331T010000
END:DAYLIGHT
BEGIN:STANDARD
TZOFFSETFROM:+0200
TZOFFSETTO:+0100
TZNAME:CET
DTSTART:20241027T010000
END:STANDARD
BEGIN:DAYLIGHT
TZOFFSETFROM:+0100
TZOFFSETTO:+0200
TZNAME:CEST
DTSTART:20250330T010000
END:DAYLIGHT
BEGIN:STANDARD
TZOFFSETFROM:+0200
TZOFFSETTO:+0100
TZNAME:CET
DTSTART:20251026T010000
END:STANDARD
END:VTIMEZONE
BEGIN:VEVENT
DTSTART;TZID=Europe/Berlin:20240907T140000
DTEND;TZID=Europe/Berlin:20240907T180000
DTSTAMP:20260420T183014
CREATED:20240530T081253Z
LAST-MODIFIED:20240802T095503Z
UID:2853-1725717600-1725732000@www.sportschuetzen-atting.de
SUMMARY:25. Landkreismeisterschaft 2024 (1. Tag)
DESCRIPTION:Schießzeiten: \n\nSamstag\, 07.09.2024\, von 14:00 Uhr bis 18:00 Uhr
URL:https://www.sportschuetzen-atting.de/sonstiges/landkreismeisterschaft-2024/
LOCATION:Sportschützen Atting – Am Sportplatz 1\, 94348 Atting
CATEGORIES:Allgemein
END:VEVENT
BEGIN:VEVENT
DTSTART;TZID=Europe/Berlin:20240908T093000
DTEND;TZID=Europe/Berlin:20240908T160000
DTSTAMP:20260420T183014
CREATED:20240802T080235Z
LAST-MODIFIED:20240802T094946Z
UID:3051-1725787800-1725811200@www.sportschuetzen-atting.de
SUMMARY:25. Landkreismeisterschaft 2024 (2. Tag)
DESCRIPTION:Schießzeiten: \n\nSonntag\, 08.09.2024\, von 9.30 Uhr bis 13.30 Uhr (Schießende!)\nSiegerehrung: 15:00 Uhr
URL:https://www.sportschuetzen-atting.de/sonstiges/25-landkreismeisterschaft-2024-2-tag/
LOCATION:Sportschützen Atting – Am Sportplatz 1\, 94348 Atting
CATEGORIES:Allgemein
END:VEVENT
END:VCALENDAR